BEGIN:VCALENDAR
VERSION:2.0
PRODID:-//Indiana Auto Body Association - ECPv6.15.20//NONSGML v1.0//EN
CALSCALE:GREGORIAN
METHOD:PUBLISH
X-WR-CALNAME:Indiana Auto Body Association
X-ORIGINAL-URL:https://myiaba.com
X-WR-CALDESC:Events for Indiana Auto Body Association
REFRESH-INTERVAL;VALUE=DURATION:PT1H
X-Robots-Tag:noindex
X-PUBLISHED-TTL:PT1H
BEGIN:VTIMEZONE
TZID:UTC
BEGIN:STANDARD
TZOFFSETFROM:+0000
TZOFFSETTO:+0000
TZNAME:UTC
DTSTART:20250101T000000
END:STANDARD
END:VTIMEZONE
BEGIN:VEVENT
DTSTART;VALUE=DATE:20260416
DTEND;VALUE=DATE:20260417
DTSTAMP:20260422T084610
CREATED:20260304T201214Z
LAST-MODIFIED:20260304T201841Z
UID:527-1776297600-1776383999@myiaba.com
SUMMARY:CCC One Mastery: AI\, Estimates & Integration
DESCRIPTION:REGISTER HERE
URL:https://myiaba.com/event/ccc-one-mastery-ai-estimates-integration/
LOCATION:The CRG Event Center\, 2499 Perry Crossing Way\, Plainfield\, IN\, 46168\, United States
END:VEVENT
END:VCALENDAR