BEGIN:VCALENDAR
VERSION:2.0
PRODID:-//Indiana Auto Body Association - ECPv6.15.20//NONSGML v1.0//EN
CALSCALE:GREGORIAN
METHOD:PUBLISH
X-ORIGINAL-URL:https://myiaba.com
X-WR-CALDESC:Events for Indiana Auto Body Association
REFRESH-INTERVAL;VALUE=DURATION:PT1H
X-Robots-Tag:noindex
X-PUBLISHED-TTL:PT1H
BEGIN:VTIMEZONE
TZID:UTC
BEGIN:STANDARD
TZOFFSETFROM:+0000
TZOFFSETTO:+0000
TZNAME:UTC
DTSTART:20250101T000000
END:STANDARD
END:VTIMEZONE
BEGIN:VEVENT
DTSTART;TZID=UTC:20260504T183000
DTEND;TZID=UTC:20260504T203000
DTSTAMP:20260420T193632
CREATED:20260102T192254Z
LAST-MODIFIED:20260414T143000Z
UID:499-1777919400-1777926600@myiaba.com
SUMMARY:Q2 Meeting - Southern
DESCRIPTION:Download The Brochure
URL:https://myiaba.com/event/q2-meeting-southern/
LOCATION:The Exchange Pub + Kitchen\, 118 W Main St\, New Albany\, IN\, 47150\, United States
END:VEVENT
END:VCALENDAR