BEGIN:VCALENDAR
VERSION:2.0
PRODID:-//Indiana Auto Body Association - ECPv6.15.20//NONSGML v1.0//EN
CALSCALE:GREGORIAN
METHOD:PUBLISH
X-WR-CALNAME:Indiana Auto Body Association
X-ORIGINAL-URL:https://myiaba.com
X-WR-CALDESC:Events for Indiana Auto Body Association
REFRESH-INTERVAL;VALUE=DURATION:PT1H
X-Robots-Tag:noindex
X-PUBLISHED-TTL:PT1H
BEGIN:VTIMEZONE
TZID:UTC
BEGIN:STANDARD
TZOFFSETFROM:+0000
TZOFFSETTO:+0000
TZNAME:UTC
DTSTART:20250101T000000
END:STANDARD
END:VTIMEZONE
BEGIN:VEVENT
DTSTART;TZID=UTC:20260507T180000
DTEND;TZID=UTC:20260507T200000
DTSTAMP:20260420T210915
CREATED:20260102T192112Z
LAST-MODIFIED:20260414T143704Z
UID:495-1778176800-1778184000@myiaba.com
SUMMARY:Q2 Meeting - Bloomington
DESCRIPTION:Download The Brochure
URL:https://myiaba.com/event/q2-meeting-bloomington/
LOCATION:Buffalo Wild Wings\, 1350 W Bloomfield Rd\, Bloomington\, IN\, 47403\, United States
END:VEVENT
END:VCALENDAR