BEGIN:VCALENDAR
VERSION:2.0
PRODID:-//Indiana Auto Body Association - ECPv6.15.20//NONSGML v1.0//EN
CALSCALE:GREGORIAN
METHOD:PUBLISH
X-ORIGINAL-URL:https://myiaba.com
X-WR-CALDESC:Events for Indiana Auto Body Association
REFRESH-INTERVAL;VALUE=DURATION:PT1H
X-Robots-Tag:noindex
X-PUBLISHED-TTL:PT1H
BEGIN:VTIMEZONE
TZID:UTC
BEGIN:STANDARD
TZOFFSETFROM:+0000
TZOFFSETTO:+0000
TZNAME:UTC
DTSTART:20240101T000000
END:STANDARD
END:VTIMEZONE
BEGIN:VEVENT
DTSTART;TZID=UTC:20251120T180000
DTEND;TZID=UTC:20251120T200000
DTSTAMP:20260423T114111
CREATED:20241213T172123Z
LAST-MODIFIED:20251104T140126Z
UID:326-1763661600-1763668800@myiaba.com
SUMMARY:Q4 Chapter Meeting - Bloomington
DESCRIPTION:
URL:https://myiaba.com/event/q4-chapter-meeting-bloomington/
LOCATION:Buffalo Wild Wings\, 1350 W Bloomfield Rd\, Bloomington\, IN\, 47403\, United States
CATEGORIES:Chapter Meeting
END:VEVENT
BEGIN:VEVENT
DTSTART;TZID=UTC:20251118T173000
DTEND;TZID=UTC:20251118T193000
DTSTAMP:20260423T114111
CREATED:20241213T172415Z
LAST-MODIFIED:20251104T135830Z
UID:330-1763487000-1763494200@myiaba.com
SUMMARY:Q4 Chapter Meeting - Central Indiana
DESCRIPTION:
URL:https://myiaba.com/event/q4-chapter-meeting-central-indiana/
LOCATION:Speedway Indoor Karting\, 1067 N Main Street\, Speedway\, IN\, 46224\, United States
CATEGORIES:Chapter Meeting
END:VEVENT
BEGIN:VEVENT
DTSTART;TZID=UTC:20251117T183000
DTEND;TZID=UTC:20251117T203000
DTSTAMP:20260423T114111
CREATED:20241213T173043Z
LAST-MODIFIED:20251104T135342Z
UID:338-1763404200-1763411400@myiaba.com
SUMMARY:Q4 Chapter Meeting - Southern Indiana
DESCRIPTION:
URL:https://myiaba.com/event/q4-chapter-meeting-southern-indiana/
LOCATION:The Exchange Pub + Kitchen\, 118 W Main St\, New Albany\, IN\, 47150\, United States
CATEGORIES:Chapter Meeting
END:VEVENT
BEGIN:VEVENT
DTSTART;TZID=UTC:20250821T000000
DTEND;TZID=UTC:20250821T000000
DTSTAMP:20260423T114111
CREATED:20241213T172042Z
LAST-MODIFIED:20241213T172042Z
UID:325-1755734400-1755734400@myiaba.com
SUMMARY:Q3 Chapter Meeting - Bloomington
DESCRIPTION:
URL:https://myiaba.com/event/q3-chapter-meeting-bloomington/
LOCATION:IN
CATEGORIES:Chapter Meeting
END:VEVENT
BEGIN:VEVENT
DTSTART;TZID=UTC:20250818T000000
DTEND;TZID=UTC:20250818T000000
DTSTAMP:20260423T114111
CREATED:20241213T173006Z
LAST-MODIFIED:20241213T173006Z
UID:337-1755475200-1755475200@myiaba.com
SUMMARY:Q3 Chapter Meeting - Southern Indiana
DESCRIPTION:
URL:https://myiaba.com/event/q3-chapter-meeting-southern-indiana/
LOCATION:IN
CATEGORIES:Chapter Meeting
END:VEVENT
BEGIN:VEVENT
DTSTART;TZID=UTC:20250807T000000
DTEND;TZID=UTC:20250807T000000
DTSTAMP:20260423T114111
CREATED:20241213T172635Z
LAST-MODIFIED:20241213T172635Z
UID:333-1754524800-1754524800@myiaba.com
SUMMARY:Q3 Chapter Meeting - Northwest Indiana
DESCRIPTION:
URL:https://myiaba.com/event/q3-chapter-meeting-northwest-indiana/
LOCATION:IN
CATEGORIES:Chapter Meeting
END:VEVENT
BEGIN:VEVENT
DTSTART;TZID=UTC:20250522T170000
DTEND;TZID=UTC:20250522T200000
DTSTAMP:20260423T114111
CREATED:20241213T172556Z
LAST-MODIFIED:20250226T190502Z
UID:332-1747933200-1747944000@myiaba.com
SUMMARY:Q2 Chapter Meeting - Northwest Indiana
DESCRIPTION:
URL:https://myiaba.com/event/q2-chapter-meeting-northwest-indiana/
LOCATION:IN
CATEGORIES:Chapter Meeting
END:VEVENT
BEGIN:VEVENT
DTSTART;TZID=UTC:20250522T170000
DTEND;TZID=UTC:20250522T200000
DTSTAMP:20260423T114111
CREATED:20241213T172000Z
LAST-MODIFIED:20250226T190526Z
UID:324-1747933200-1747944000@myiaba.com
SUMMARY:Q2 Chapter Meeting - Bloomington
DESCRIPTION:
URL:https://myiaba.com/event/q2-chapter-meeting-bloomington/
LOCATION:IN
CATEGORIES:Chapter Meeting
END:VEVENT
BEGIN:VEVENT
DTSTART;TZID=UTC:20250520T173000
DTEND;TZID=UTC:20250520T200000
DTSTAMP:20260423T114111
CREATED:20241213T172251Z
LAST-MODIFIED:20250226T190424Z
UID:328-1747762200-1747771200@myiaba.com
SUMMARY:Q2 Chapter Meeting - Central Indiana
DESCRIPTION:
URL:https://myiaba.com/event/q2-chapter-meeting-central-indiana/
LOCATION:IN
CATEGORIES:Chapter Meeting
END:VEVENT
BEGIN:VEVENT
DTSTART;TZID=UTC:20250519T183000
DTEND;TZID=UTC:20250519T203000
DTSTAMP:20260423T114111
CREATED:20241213T172927Z
LAST-MODIFIED:20250226T190355Z
UID:336-1747679400-1747686600@myiaba.com
SUMMARY:Q2 Chapter Meeting - Southern Indiana
DESCRIPTION:
URL:https://myiaba.com/event/q2-chapter-meeting-southern-indiana/
LOCATION:IN
CATEGORIES:Chapter Meeting
END:VEVENT
BEGIN:VEVENT
DTSTART;TZID=UTC:20250220T000000
DTEND;TZID=UTC:20250220T000000
DTSTAMP:20260423T114111
CREATED:20241213T171853Z
LAST-MODIFIED:20250115T172752Z
UID:323-1740009600-1740009600@myiaba.com
SUMMARY:Q1 Chapter Meeting - Bloomington
DESCRIPTION:Register HERE
URL:https://myiaba.com/event/q1-chapter-meeting-bloomington/
LOCATION:Hoosier Hank’s\, 1285 S College Mall Rd\, Bloomington\, IN\, 47401\, United States
CATEGORIES:Chapter Meeting
END:VEVENT
BEGIN:VEVENT
DTSTART;TZID=UTC:20250218T000000
DTEND;TZID=UTC:20250218T000000
DTSTAMP:20260423T114111
CREATED:20241213T172517Z
LAST-MODIFIED:20250115T173845Z
UID:331-1739836800-1739836800@myiaba.com
SUMMARY:Q1 Chapter Meeting - Northwest Indiana
DESCRIPTION:Register HERE
URL:https://myiaba.com/event/q1-chapter-meeting-northwest-indiana/
LOCATION:Buddy & Pals Place\, 1206 E Summit St\, Crown Point\, IN\, 46307\, United States
CATEGORIES:Chapter Meeting
END:VEVENT
BEGIN:VEVENT
DTSTART;TZID=UTC:20250218T000000
DTEND;TZID=UTC:20250218T000000
DTSTAMP:20260423T114111
CREATED:20241213T172204Z
LAST-MODIFIED:20250115T173424Z
UID:327-1739836800-1739836800@myiaba.com
SUMMARY:Q1 Chapter Meeting - Central Indiana
DESCRIPTION:Register HERE
URL:https://myiaba.com/event/q1-chapter-meeting-central-indiana/
LOCATION:George’s Neighborhood Grille\, 6935 Lake Plaza Dr B12\, Indianapolis\, IN\, 46220\, United States
CATEGORIES:Chapter Meeting
END:VEVENT
BEGIN:VEVENT
DTSTART;TZID=UTC:20250217T000000
DTEND;TZID=UTC:20250217T000000
DTSTAMP:20260423T114111
CREATED:20241213T172842Z
LAST-MODIFIED:20250115T174203Z
UID:335-1739750400-1739750400@myiaba.com
SUMMARY:Q1 Chapter Meeting - Southern Indiana
DESCRIPTION:Register HERE
URL:https://myiaba.com/event/q1-chapter-meeting-southern-indiana/
LOCATION:The Exchange Pub + Kitchen\, 118 W Main St\, New Albany\, IN\, 47150\, United States
CATEGORIES:Chapter Meeting
END:VEVENT
END:VCALENDAR