BEGIN:VCALENDAR
VERSION:2.0
PRODID:-//Indiana Auto Body Association - ECPv6.15.20//NONSGML v1.0//EN
CALSCALE:GREGORIAN
METHOD:PUBLISH
X-WR-CALNAME:Indiana Auto Body Association
X-ORIGINAL-URL:https://myiaba.com
X-WR-CALDESC:Events for Indiana Auto Body Association
REFRESH-INTERVAL;VALUE=DURATION:PT1H
X-Robots-Tag:noindex
X-PUBLISHED-TTL:PT1H
BEGIN:VTIMEZONE
TZID:UTC
BEGIN:STANDARD
TZOFFSETFROM:+0000
TZOFFSETTO:+0000
TZNAME:UTC
DTSTART:20240101T000000
END:STANDARD
END:VTIMEZONE
BEGIN:VEVENT
DTSTART;TZID=UTC:20260507T180000
DTEND;TZID=UTC:20260507T200000
DTSTAMP:20260421T064938
CREATED:20260102T192112Z
LAST-MODIFIED:20260414T143704Z
UID:495-1778176800-1778184000@myiaba.com
SUMMARY:Q2 Meeting - Bloomington
DESCRIPTION:Download The Brochure
URL:https://myiaba.com/event/q2-meeting-bloomington/
LOCATION:Buffalo Wild Wings\, 1350 W Bloomfield Rd\, Bloomington\, IN\, 47403\, United States
END:VEVENT
BEGIN:VEVENT
DTSTART;TZID=UTC:20260506T173000
DTEND;TZID=UTC:20260506T200000
DTSTAMP:20260421T064938
CREATED:20260102T191738Z
LAST-MODIFIED:20260414T143334Z
UID:487-1778088600-1778097600@myiaba.com
SUMMARY:Q2 Meeting - Central
DESCRIPTION:Download The Brochure
URL:https://myiaba.com/event/q2-meeting-central/
LOCATION:George’s Neighborhood Grille\, 6935 Lake Plaza Dr B12\, Indianapolis\, IN\, 46220\, United States
END:VEVENT
BEGIN:VEVENT
DTSTART;TZID=UTC:20260506T080000
DTEND;TZID=UTC:20260506T170000
DTSTAMP:20260421T064938
CREATED:20260102T191931Z
LAST-MODIFIED:20260102T191931Z
UID:491-1778054400-1778086800@myiaba.com
SUMMARY:Q2 Meeting - Northwest
DESCRIPTION:
URL:https://myiaba.com/event/q2-meeting-northwest/
END:VEVENT
BEGIN:VEVENT
DTSTART;TZID=UTC:20260504T183000
DTEND;TZID=UTC:20260504T203000
DTSTAMP:20260421T064938
CREATED:20260102T192254Z
LAST-MODIFIED:20260414T143000Z
UID:499-1777919400-1777926600@myiaba.com
SUMMARY:Q2 Meeting - Southern
DESCRIPTION:Download The Brochure
URL:https://myiaba.com/event/q2-meeting-southern/
LOCATION:The Exchange Pub + Kitchen\, 118 W Main St\, New Albany\, IN\, 47150\, United States
END:VEVENT
BEGIN:VEVENT
DTSTART;VALUE=DATE:20260416
DTEND;VALUE=DATE:20260417
DTSTAMP:20260421T064938
CREATED:20260304T201214Z
LAST-MODIFIED:20260304T201841Z
UID:527-1776297600-1776383999@myiaba.com
SUMMARY:CCC One Mastery: AI\, Estimates & Integration
DESCRIPTION:REGISTER HERE
URL:https://myiaba.com/event/ccc-one-mastery-ai-estimates-integration/
LOCATION:The CRG Event Center\, 2499 Perry Crossing Way\, Plainfield\, IN\, 46168\, United States
END:VEVENT
BEGIN:VEVENT
DTSTART;TZID=UTC:20260415T110000
DTEND;TZID=UTC:20260415T120000
DTSTAMP:20260421T064938
CREATED:20260325T203358Z
LAST-MODIFIED:20260325T203445Z
UID:534-1776250800-1776254400@myiaba.com
SUMMARY:Happier Technicians = More Productive Shops
DESCRIPTION:Register HERE
URL:https://myiaba.com/event/happier-technicians-more-productive-shops/
LOCATION:ZOOM
END:VEVENT
BEGIN:VEVENT
DTSTART;VALUE=DATE:20260410
DTEND;VALUE=DATE:20260411
DTSTAMP:20260421T064938
CREATED:20251217T184053Z
LAST-MODIFIED:20260304T202420Z
UID:482-1775779200-1775865599@myiaba.com
SUMMARY:Indiana High School & College Transportation Career Fair
DESCRIPTION:DOWNLOAD THE FLYER\n 
URL:https://myiaba.com/event/indiana-high-school-college-transportation-career-fair/
LOCATION:Indiana State Fairgrounds\, 1202 E 38th St\, Indianapolis\, IN\, 46205\, United States
END:VEVENT
BEGIN:VEVENT
DTSTART;TZID=UTC:20260325T110000
DTEND;TZID=UTC:20260325T120000
DTSTAMP:20260421T064938
CREATED:20260204T182616Z
LAST-MODIFIED:20260204T182616Z
UID:514-1774436400-1774440000@myiaba.com
SUMMARY:State of the Industry by Mike Anderson
DESCRIPTION:REGISTER HERE
URL:https://myiaba.com/event/state-of-the-industry-by-mike-anderson/
END:VEVENT
BEGIN:VEVENT
DTSTART;TZID=UTC:20260211T110000
DTEND;TZID=UTC:20260211T120000
DTSTAMP:20260421T064938
CREATED:20260126T151210Z
LAST-MODIFIED:20260126T151210Z
UID:510-1770807600-1770811200@myiaba.com
SUMMARY:Complimentary Webinar: Shop Marketing
DESCRIPTION:  \nREGISTER NOW\n 
URL:https://myiaba.com/event/complimentary-webinar-shop-marketing/
END:VEVENT
BEGIN:VEVENT
DTSTART;TZID=UTC:20260205T180000
DTEND;TZID=UTC:20260205T200000
DTSTAMP:20260421T064938
CREATED:20260102T192048Z
LAST-MODIFIED:20260119T173103Z
UID:494-1770314400-1770321600@myiaba.com
SUMMARY:Q1 Meeting - Bloomington
DESCRIPTION:Register Now
URL:https://myiaba.com/event/q1-meeting-bloomington/
LOCATION:Buffalo Wild Wings\, 1350 W Bloomfield Rd\, Bloomington\, IN\, 47403\, United States
END:VEVENT
BEGIN:VEVENT
DTSTART;TZID=UTC:20260204T080000
DTEND;TZID=UTC:20260204T170000
DTSTAMP:20260421T064938
CREATED:20260102T191904Z
LAST-MODIFIED:20260102T191904Z
UID:490-1770192000-1770224400@myiaba.com
SUMMARY:Q1 Meeting - Northwest
DESCRIPTION:
URL:https://myiaba.com/event/q1-meeting-northwest/
END:VEVENT
BEGIN:VEVENT
DTSTART;TZID=UTC:20260203T173000
DTEND;TZID=UTC:20260203T200000
DTSTAMP:20260421T064938
CREATED:20260102T191706Z
LAST-MODIFIED:20260119T173105Z
UID:486-1770139800-1770148800@myiaba.com
SUMMARY:Q1 Meeting - Central
DESCRIPTION:Register Now
URL:https://myiaba.com/event/q1-meeting-central/
LOCATION:The District Tap\, 3720 E 82nd St\, Indianapolis\, IN\, 46240\, United States
END:VEVENT
BEGIN:VEVENT
DTSTART;TZID=UTC:20260202T183000
DTEND;TZID=UTC:20260202T203000
DTSTAMP:20260421T064938
CREATED:20260102T192231Z
LAST-MODIFIED:20260119T172546Z
UID:498-1770057000-1770064200@myiaba.com
SUMMARY:Q1 Meeting - Southern
DESCRIPTION:
URL:https://myiaba.com/event/q1-meeting-southern/
LOCATION:The Exchange Pub + Kitchen\, 118 W Main St\, New Albany\, IN\, 47150\, United States
END:VEVENT
BEGIN:VEVENT
DTSTART;TZID=UTC:20251217T110000
DTEND;TZID=UTC:20251217T120000
DTSTAMP:20260421T064938
CREATED:20251203T210003Z
LAST-MODIFIED:20251203T210118Z
UID:476-1765969200-1765972800@myiaba.com
SUMMARY:Webinar: Unlock the Power of Lean For Collision
DESCRIPTION:REGISTER NOW!!
URL:https://myiaba.com/event/476/
END:VEVENT
BEGIN:VEVENT
DTSTART;TZID=UTC:20251120T180000
DTEND;TZID=UTC:20251120T200000
DTSTAMP:20260421T064938
CREATED:20241213T172123Z
LAST-MODIFIED:20251104T140126Z
UID:326-1763661600-1763668800@myiaba.com
SUMMARY:Q4 Chapter Meeting - Bloomington
DESCRIPTION:
URL:https://myiaba.com/event/q4-chapter-meeting-bloomington/
LOCATION:Buffalo Wild Wings\, 1350 W Bloomfield Rd\, Bloomington\, IN\, 47403\, United States
CATEGORIES:Chapter Meeting
END:VEVENT
BEGIN:VEVENT
DTSTART;TZID=UTC:20251118T173000
DTEND;TZID=UTC:20251118T193000
DTSTAMP:20260421T064938
CREATED:20241213T172415Z
LAST-MODIFIED:20251104T135830Z
UID:330-1763487000-1763494200@myiaba.com
SUMMARY:Q4 Chapter Meeting - Central Indiana
DESCRIPTION:
URL:https://myiaba.com/event/q4-chapter-meeting-central-indiana/
LOCATION:Speedway Indoor Karting\, 1067 N Main Street\, Speedway\, IN\, 46224\, United States
CATEGORIES:Chapter Meeting
END:VEVENT
BEGIN:VEVENT
DTSTART;TZID=UTC:20251117T183000
DTEND;TZID=UTC:20251117T203000
DTSTAMP:20260421T064938
CREATED:20241213T173043Z
LAST-MODIFIED:20251104T135342Z
UID:338-1763404200-1763411400@myiaba.com
SUMMARY:Q4 Chapter Meeting - Southern Indiana
DESCRIPTION:
URL:https://myiaba.com/event/q4-chapter-meeting-southern-indiana/
LOCATION:The Exchange Pub + Kitchen\, 118 W Main St\, New Albany\, IN\, 47150\, United States
CATEGORIES:Chapter Meeting
END:VEVENT
BEGIN:VEVENT
DTSTART;TZID=UTC:20251112T140000
DTEND;TZID=UTC:20251112T150000
DTSTAMP:20260421T064938
CREATED:20251020T182551Z
LAST-MODIFIED:20251020T182707Z
UID:462-1762956000-1762959600@myiaba.com
SUMMARY:Unlocking the Right To Appraisal Webinar
DESCRIPTION:Click HERE to Download the Flyer
URL:https://myiaba.com/event/unlocking-the-right-to-appraisal-webinar/
END:VEVENT
BEGIN:VEVENT
DTSTART;TZID=UTC:20250821T170000
DTEND;TZID=UTC:20250821T200000
DTSTAMP:20260421T064938
CREATED:20250804T233358Z
LAST-MODIFIED:20250804T233427Z
UID:435-1755795600-1755806400@myiaba.com
SUMMARY:Chapter Meeting - Bloomington
DESCRIPTION:
URL:https://myiaba.com/event/chapter-meeting/
LOCATION:Buffalo Wild Wings\, 1350 W Bloomfield Rd\, Bloomington\, IN\, 47403\, United States
END:VEVENT
BEGIN:VEVENT
DTSTART;TZID=UTC:20250821T000000
DTEND;TZID=UTC:20250821T000000
DTSTAMP:20260421T064938
CREATED:20241213T172042Z
LAST-MODIFIED:20241213T172042Z
UID:325-1755734400-1755734400@myiaba.com
SUMMARY:Q3 Chapter Meeting - Bloomington
DESCRIPTION:
URL:https://myiaba.com/event/q3-chapter-meeting-bloomington/
CATEGORIES:Chapter Meeting
END:VEVENT
BEGIN:VEVENT
DTSTART;TZID=UTC:20250820T183000
DTEND;TZID=UTC:20250820T203000
DTSTAMP:20260421T064938
CREATED:20250804T233755Z
LAST-MODIFIED:20250804T233755Z
UID:437-1755714600-1755721800@myiaba.com
SUMMARY:Chapter Meeting - Central Indiana
DESCRIPTION:
URL:https://myiaba.com/event/chapter-meeting-central-indiana/
END:VEVENT
BEGIN:VEVENT
DTSTART;TZID=UTC:20250818T183000
DTEND;TZID=UTC:20250818T203000
DTSTAMP:20260421T064938
CREATED:20250804T234045Z
LAST-MODIFIED:20250804T234045Z
UID:440-1755541800-1755549000@myiaba.com
SUMMARY:Chapter Meeting - Southern Indiana
DESCRIPTION:
URL:https://myiaba.com/event/chapter-meeting-southern-indiana/
LOCATION:Prosser Career Center\, 4202 Charlestown Rd\, New Albany\, IN\, 47150\, United States
END:VEVENT
BEGIN:VEVENT
DTSTART;TZID=UTC:20250818T000000
DTEND;TZID=UTC:20250818T000000
DTSTAMP:20260421T064938
CREATED:20241213T173006Z
LAST-MODIFIED:20241213T173006Z
UID:337-1755475200-1755475200@myiaba.com
SUMMARY:Q3 Chapter Meeting - Southern Indiana
DESCRIPTION:
URL:https://myiaba.com/event/q3-chapter-meeting-southern-indiana/
CATEGORIES:Chapter Meeting
END:VEVENT
BEGIN:VEVENT
DTSTART;TZID=UTC:20250807T000000
DTEND;TZID=UTC:20250807T000000
DTSTAMP:20260421T064938
CREATED:20241213T172635Z
LAST-MODIFIED:20241213T172635Z
UID:333-1754524800-1754524800@myiaba.com
SUMMARY:Q3 Chapter Meeting - Northwest Indiana
DESCRIPTION:
URL:https://myiaba.com/event/q3-chapter-meeting-northwest-indiana/
CATEGORIES:Chapter Meeting
END:VEVENT
BEGIN:VEVENT
DTSTART;TZID=UTC:20250716T090000
DTEND;TZID=UTC:20250716T140000
DTSTAMP:20260421T064938
CREATED:20250610T140902Z
LAST-MODIFIED:20250610T140902Z
UID:425-1752656400-1752674400@myiaba.com
SUMMARY:Estimate For Profit
DESCRIPTION:
URL:https://myiaba.com/event/estimate-for-profit/
LOCATION:Automotive Color and Supply\, 4415 Saguaro Trail\, Indianapolis\, IN\, 46268\, United States
END:VEVENT
BEGIN:VEVENT
DTSTART;TZID=UTC:20250522T170000
DTEND;TZID=UTC:20250522T200000
DTSTAMP:20260421T064938
CREATED:20241213T172556Z
LAST-MODIFIED:20250226T190502Z
UID:332-1747933200-1747944000@myiaba.com
SUMMARY:Q2 Chapter Meeting - Northwest Indiana
DESCRIPTION:
URL:https://myiaba.com/event/q2-chapter-meeting-northwest-indiana/
CATEGORIES:Chapter Meeting
END:VEVENT
BEGIN:VEVENT
DTSTART;TZID=UTC:20250522T170000
DTEND;TZID=UTC:20250522T200000
DTSTAMP:20260421T064938
CREATED:20241213T172000Z
LAST-MODIFIED:20250226T190526Z
UID:324-1747933200-1747944000@myiaba.com
SUMMARY:Q2 Chapter Meeting - Bloomington
DESCRIPTION:
URL:https://myiaba.com/event/q2-chapter-meeting-bloomington/
CATEGORIES:Chapter Meeting
END:VEVENT
BEGIN:VEVENT
DTSTART;TZID=UTC:20250520T173000
DTEND;TZID=UTC:20250520T200000
DTSTAMP:20260421T064938
CREATED:20241213T172251Z
LAST-MODIFIED:20250226T190424Z
UID:328-1747762200-1747771200@myiaba.com
SUMMARY:Q2 Chapter Meeting - Central Indiana
DESCRIPTION:
URL:https://myiaba.com/event/q2-chapter-meeting-central-indiana/
CATEGORIES:Chapter Meeting
END:VEVENT
BEGIN:VEVENT
DTSTART;TZID=UTC:20250519T183000
DTEND;TZID=UTC:20250519T203000
DTSTAMP:20260421T064938
CREATED:20241213T172927Z
LAST-MODIFIED:20250226T190355Z
UID:336-1747679400-1747686600@myiaba.com
SUMMARY:Q2 Chapter Meeting - Southern Indiana
DESCRIPTION:
URL:https://myiaba.com/event/q2-chapter-meeting-southern-indiana/
CATEGORIES:Chapter Meeting
END:VEVENT
BEGIN:VEVENT
DTSTART;TZID=UTC:20250422T110000
DTEND;TZID=UTC:20250422T120000
DTSTAMP:20260421T064938
CREATED:20250205T203703Z
LAST-MODIFIED:20250205T203703Z
UID:377-1745319600-1745323200@myiaba.com
SUMMARY:Leadership Development Series Session 3
DESCRIPTION:
URL:https://myiaba.com/event/leadership-development-series-session-3/
LOCATION:ZOOM
END:VEVENT
END:VCALENDAR