BEGIN:VCALENDAR
VERSION:2.0
PRODID:-//Indiana Auto Body Association - ECPv6.15.20//NONSGML v1.0//EN
CALSCALE:GREGORIAN
METHOD:PUBLISH
X-ORIGINAL-URL:https://myiaba.com
X-WR-CALDESC:Events for Indiana Auto Body Association
REFRESH-INTERVAL;VALUE=DURATION:PT1H
X-Robots-Tag:noindex
X-PUBLISHED-TTL:PT1H
BEGIN:VTIMEZONE
TZID:UTC
BEGIN:STANDARD
TZOFFSETFROM:+0000
TZOFFSETTO:+0000
TZNAME:UTC
DTSTART:20250101T000000
END:STANDARD
END:VTIMEZONE
BEGIN:VEVENT
DTSTART;TZID=UTC:20261116T080000
DTEND;TZID=UTC:20261116T170000
DTSTAMP:20260421T051050
CREATED:20260102T192348Z
LAST-MODIFIED:20260102T192348Z
UID:501-1794816000-1794848400@myiaba.com
SUMMARY:Q4 Meeting - Southern
DESCRIPTION:
URL:https://myiaba.com/event/q4-meeting-southern/
LOCATION:IN
END:VEVENT
BEGIN:VEVENT
DTSTART;TZID=UTC:20261117T080000
DTEND;TZID=UTC:20261117T170000
DTSTAMP:20260421T051050
CREATED:20260102T191836Z
LAST-MODIFIED:20260102T191836Z
UID:489-1794902400-1794934800@myiaba.com
SUMMARY:Q4 Meeting - Central
DESCRIPTION:
URL:https://myiaba.com/event/q4-meeting-central/
LOCATION:IN
END:VEVENT
BEGIN:VEVENT
DTSTART;TZID=UTC:20261118T080000
DTEND;TZID=UTC:20261118T170000
DTSTAMP:20260421T051050
CREATED:20260102T192017Z
LAST-MODIFIED:20260102T192017Z
UID:493-1794988800-1795021200@myiaba.com
SUMMARY:Q4 Meeting - Northwest
DESCRIPTION:
URL:https://myiaba.com/event/q4-meeting-northwest/
LOCATION:IN
END:VEVENT
BEGIN:VEVENT
DTSTART;TZID=UTC:20261119T080000
DTEND;TZID=UTC:20261119T170000
DTSTAMP:20260421T051050
CREATED:20260102T192203Z
LAST-MODIFIED:20260102T192203Z
UID:497-1795075200-1795107600@myiaba.com
SUMMARY:Q4 Meeting - Bloomington
DESCRIPTION:
URL:https://myiaba.com/event/q4-meeting-bloomington/
LOCATION:IN
END:VEVENT
END:VCALENDAR